BEGIN:VCALENDAR
VERSION:2.0
PRODID:-//Plone.org//NONSGML plone.app.event//EN
X-WR-TIMEZONE:Europe/Berlin
BEGIN:VEVENT
SUMMARY:Karriereentwicklung für Postdocs – Promotionsbetreuung
DTSTART;TZID=Europe/Berlin:20181105T100000
DTEND;TZID=Europe/Berlin:20181106T163000
DTSTAMP:20260424T074821Z
UID:63b10900989a4ccf80bff5e97fa2374e@www.uni-marburg.de
ATTENDEE;CN="Dr. Michael Hinz, www.hinz-ohne-kunz.de";ROLE=REQ-PARTICIPANT
 :Dr. Michael Hinz, www.hinz-ohne-kunz.de
ATTENDEE;CN="Dr. Sarah Weber, www.sarah-weber.net";ROLE=REQ-PARTICIPANT:Dr
 . Sarah Weber, www.sarah-weber.net
CREATED:20180530T123124Z
DESCRIPTION:https://www.uni-marburg.de/en/mara/pr-mara/events/2018/program
 -postdoc/karriereentwicklung-fuer-postdocs-promotionsbetreuung\nIn diesem 
 zweitägigen Workshop lernen Sie neben den rechtlichen Rahmenbedingungen a
 uch zentrale Elemente sinnvoller Promotionsbetreuung kennen\, um in der 
 „Sandwich“-Position zwischen den formellen Betreuerinnen bzw. Betreuer
 n einerseits und den zu betreuenden Promovierenden andererseits\, Ihre eig
 ene Rolle konstruktiv\, effektiv und effizient zu gestalten.
LAST-MODIFIED:20181009T153050Z
LOCATION:Justus-Liebig-Universität Gießen\, Ludwigstr. 23\, Seminarraum 
 315\, 35390 Gießen
URL:https://www.uni-marburg.de/en/mara/pr-mara/events/2018/program-postdoc
 /karriereentwicklung-fuer-postdocs-promotionsbetreuung
END:VEVENT
BEGIN:VTIMEZONE
TZID:Europe/Berlin
X-LIC-LOCATION:Europe/Berlin
BEGIN:STANDARD
DTSTART:20181028T020000
TZNAME:CET
TZOFFSETFROM:+0200
TZOFFSETTO:+0100
END:STANDARD
END:VTIMEZONE
END:VCALENDAR
