BEGIN:VCALENDAR
VERSION:2.0
PRODID:-//Plone.org//NONSGML plone.app.event//EN
X-WR-TIMEZONE:Europe/Berlin
BEGIN:VEVENT
SUMMARY:Strategische Karriereplanung für Postdocs
DTSTART;TZID=Europe/Berlin:20180614T090000
DTEND;TZID=Europe/Berlin:20180614T173000
DTSTAMP:20260421T032116Z
UID:4141283f1cc74fb1833d7e84f98ceafe@www.uni-marburg.de
ATTENDEE;CN="Prof. Dr. Annette Kolb, www.coachademics.de";ROLE=REQ-PARTICI
 PANT:Prof. Dr. Annette Kolb, www.coachademics.de
CREATED:20200122T111614Z
DESCRIPTION:https://www.uni-marburg.de/en/mara/pr-mara/events/2018/program
 -postdoc/strategische-karriereplanung-fuer-postdocs\n
LAST-MODIFIED:20200122T112715Z
LOCATION:Philipps-Universität Marburg\, MARA\, F|05\, Deutschhausstr. 11+
 13\, 1. OG\, Seminarraum 01.0020
URL:https://www.uni-marburg.de/en/mara/pr-mara/events/2018/program-postdoc
 /strategische-karriereplanung-fuer-postdocs
END:VEVENT
BEGIN:VTIMEZONE
TZID:Europe/Berlin
X-LIC-LOCATION:Europe/Berlin
BEGIN:DAYLIGHT
DTSTART:20180325T030000
TZNAME:CEST
TZOFFSETFROM:+0100
TZOFFSETTO:+0200
END:DAYLIGHT
END:VTIMEZONE
END:VCALENDAR
