BEGIN:VCALENDAR
VERSION:2.0
PRODID:-//Plone.org//NONSGML plone.app.event//EN
X-WR-TIMEZONE:Europe/Berlin
BEGIN:VEVENT
SUMMARY:Wissenschaftskommunikation - Öffentlichkeitswirksam präsentieren
DTSTART;TZID=Europe/Berlin:20180508T100000
DTEND;TZID=Europe/Berlin:20180508T180000
DTSTAMP:20260421T031912Z
UID:1d1a14c882bc4c0bb7dc71479ae7e805@www.uni-marburg.de
ATTENDEE;CN="Katja John";ROLE=REQ-PARTICIPANT:Katja John
CREATED:20171211T075108Z
DESCRIPTION:https://www.uni-marburg.de/en/mara/pr-mara/events/2018/program
 -postdoc/wisskomm-praesentieren\nIn diesem Workshop lernen Sie\, worauf es
  ankommt\, wenn Sie Ihre eigene Forschung gegenüber einem fachfremden Pub
 likum kommunizieren.
LAST-MODIFIED:20180507T112127Z
LOCATION:Philipps-Universität Marburg\, MARA\, F|05\, Deutschhausstr. 11+
 13\, 1. OG\, Seminarraum 01.0010
URL:https://www.uni-marburg.de/en/mara/pr-mara/events/2018/program-postdoc
 /wisskomm-praesentieren
END:VEVENT
BEGIN:VTIMEZONE
TZID:Europe/Berlin
X-LIC-LOCATION:Europe/Berlin
BEGIN:DAYLIGHT
DTSTART:20180325T030000
TZNAME:CEST
TZOFFSETFROM:+0100
TZOFFSETTO:+0200
END:DAYLIGHT
END:VTIMEZONE
END:VCALENDAR
