BEGIN:VCALENDAR
VERSION:2.0
PRODID:-//Plone.org//NONSGML plone.app.event//EN
X-WR-TIMEZONE:Europe/Berlin
BEGIN:VEVENT
SUMMARY:Hochschulkarriere und Familienplanung – Alles unter einen Hut?
DTSTART;TZID=Europe/Berlin:20190618T090000
DTEND;TZID=Europe/Berlin:20190618T170000
DTSTAMP:20260424T081753Z
UID:61330dfcaacb4bc1907d30c108cc6bee@www.uni-marburg.de
ATTENDEE;CN="Dr. Dieta Kuchenbrandt, www.schainundkuchenbrandt.com";ROLE=R
 EQ-PARTICIPANT:Dr. Dieta Kuchenbrandt, www.schainundkuchenbrandt.com
CREATED:20180518T085614Z
DESCRIPTION:https://www.uni-marburg.de/en/mara/pr-mara/events/2019/program
 -humanities-and-social-sciences/copy_of_hochschulkarriere-und-familienplan
 ung\n
LAST-MODIFIED:20190313T093240Z
LOCATION:Philipps-Universität Marburg\, MARA\, F|05\, Deutschhausstraße 
 11+13\, 1. OG\, Seminarraum 01.0010
URL:https://www.uni-marburg.de/en/mara/pr-mara/events/2019/program-humanit
 ies-and-social-sciences/copy_of_hochschulkarriere-und-familienplanung
END:VEVENT
BEGIN:VTIMEZONE
TZID:Europe/Berlin
X-LIC-LOCATION:Europe/Berlin
BEGIN:DAYLIGHT
DTSTART:20190331T030000
TZNAME:CEST
TZOFFSETFROM:+0100
TZOFFSETTO:+0200
END:DAYLIGHT
END:VTIMEZONE
END:VCALENDAR
