BEGIN:VCALENDAR
VERSION:2.0
PRODID:-//Plone.org//NONSGML plone.app.event//EN
X-WR-TIMEZONE:Europe/Berlin
BEGIN:VEVENT
SUMMARY:Präsentationstraining in der Fremdsprache Deutsch
DTSTART;TZID=Europe/Berlin:20190511T090000
DTEND;TZID=Europe/Berlin:20190511T160000
DTSTAMP:20260424T022646Z
UID:adb1aede05294bd0b9a18e90f03d6c39@www.uni-marburg.de
ATTENDEE;CN="Dr. Susanne Duxa";ROLE=REQ-PARTICIPANT:Dr. Susanne Duxa
CREATED:20180110T102726Z
DESCRIPTION:https://www.uni-marburg.de/en/mara/pr-mara/events/2019/program
 -humanities-and-social-sciences/copy_of_praesentationstraining-in-der-frem
 dsprache-deutsch\n
LAST-MODIFIED:20190617T115213Z
LOCATION:Hörsaalgebäude B|01\, Biegenstraße 14\, Raum +2/0110
URL:https://www.uni-marburg.de/en/mara/pr-mara/events/2019/program-humanit
 ies-and-social-sciences/copy_of_praesentationstraining-in-der-fremdsprache
 -deutsch
END:VEVENT
BEGIN:VTIMEZONE
TZID:Europe/Berlin
X-LIC-LOCATION:Europe/Berlin
BEGIN:DAYLIGHT
DTSTART:20190331T030000
TZNAME:CEST
TZOFFSETFROM:+0100
TZOFFSETTO:+0200
END:DAYLIGHT
END:VTIMEZONE
END:VCALENDAR
