BEGIN:VCALENDAR
VERSION:2.0
PRODID:-//Plone.org//NONSGML plone.app.event//EN
X-WR-TIMEZONE:Europe/Berlin
BEGIN:VEVENT
SUMMARY:Wie frage ich? – Varianten qualitativer Interviews\, Leitfadenen
 twicklung und Interviewführung
DTSTART;TZID=Europe/Berlin:20190425T093000
DTEND;TZID=Europe/Berlin:20190426T173000
DTSTAMP:20260419T190034Z
UID:e00454caa52d4d1dabb474e8b8c98d01@www.uni-marburg.de
ATTENDEE;CN="Dr. Sarah Weber, www.sarah-weber.net";ROLE=REQ-PARTICIPANT:Dr
 . Sarah Weber, www.sarah-weber.net
CREATED:20171219T113849Z
DESCRIPTION:https://www.uni-marburg.de/en/mara/pr-mara/events/2019/program
 -humanities-and-social-sciences/copy_of_wie-frage-ich\n
LAST-MODIFIED:20190404T095032Z
LOCATION:Philipps-Universität Marburg\, MARA\, F|05\, Deutschhausstraße 
 11+13\, 1. OG\, Seminarraum 01.0010
URL:https://www.uni-marburg.de/en/mara/pr-mara/events/2019/program-humanit
 ies-and-social-sciences/copy_of_wie-frage-ich
END:VEVENT
BEGIN:VTIMEZONE
TZID:Europe/Berlin
X-LIC-LOCATION:Europe/Berlin
BEGIN:DAYLIGHT
DTSTART:20190331T030000
TZNAME:CEST
TZOFFSETFROM:+0100
TZOFFSETTO:+0200
END:DAYLIGHT
END:VTIMEZONE
END:VCALENDAR
