BEGIN:VCALENDAR
VERSION:2.0
PRODID:-//Plone.org//NONSGML plone.app.event//EN
X-WR-TIMEZONE:Europe/Berlin
BEGIN:VEVENT
SUMMARY:International Career Compass – Career Development in Internation
 al Environments
DTSTART;TZID=Europe/Berlin:20190725T090000
DTEND;TZID=Europe/Berlin:20190726T170000
DTSTAMP:20260419T230411Z
UID:ea91328b074f435d9707a1d71c042ac6@www.uni-marburg.de
ATTENDEE;CN="Dr. Christine Issa, www.saminworld.org";ROLE=REQ-PARTICIPANT:
 Dr. Christine Issa, www.saminworld.org
CREATED:20190520T100754Z
DESCRIPTION:https://www.uni-marburg.de/en/mara/pr-mara/events/2019/program
 -humanities-and-social-sciences/international_career_compass\n
LAST-MODIFIED:20190605T104543Z
LOCATION:Philipps-Universität Marburg\, MARA\, F|05\, Deutschhausstraße 
 11+13\, 1st floor\, seminar room 01.0030
URL:https://www.uni-marburg.de/en/mara/pr-mara/events/2019/program-humanit
 ies-and-social-sciences/international_career_compass
END:VEVENT
BEGIN:VTIMEZONE
TZID:Europe/Berlin
X-LIC-LOCATION:Europe/Berlin
BEGIN:DAYLIGHT
DTSTART:20190331T030000
TZNAME:CEST
TZOFFSETFROM:+0100
TZOFFSETTO:+0200
END:DAYLIGHT
END:VTIMEZONE
END:VCALENDAR
