BEGIN:VCALENDAR
VERSION:2.0
PRODID:-//Plone.org//NONSGML plone.app.event//EN
X-WR-TIMEZONE:Europe/Berlin
BEGIN:VEVENT
SUMMARY:Schreibwerkstatt – Veröffentlichen in Deutschland in den Geiste
 s- und Sozialwissenschaften
DTSTART;TZID=Europe/Berlin:20190506T090000
DTEND;TZID=Europe/Berlin:20190506T130000
DTSTAMP:20260424T132557Z
UID:f947006930484cb293bc6d3466feb5fe@www.uni-marburg.de
ATTENDEE;CN="Ina Beneke, Norman Rinkenberger";ROLE=REQ-PARTICIPANT:Ina Ben
 eke, Norman Rinkenberger
CREATED:20180110T094845Z
DESCRIPTION:https://www.uni-marburg.de/en/mara/pr-mara/events/2019/program
 -humanities-and-social-sciences/schreibwerkstatt_veroeffentlichen-in-deuts
 chland\n
LAST-MODIFIED:20190214T082839Z
LOCATION:Philipps-Universität Marburg\, MARA\, F|05\, Deutschhausstraße 
 11+13\, 1. OG\, Seminarraum 01.0030
URL:https://www.uni-marburg.de/en/mara/pr-mara/events/2019/program-humanit
 ies-and-social-sciences/schreibwerkstatt_veroeffentlichen-in-deutschland
END:VEVENT
BEGIN:VTIMEZONE
TZID:Europe/Berlin
X-LIC-LOCATION:Europe/Berlin
BEGIN:DAYLIGHT
DTSTART:20190331T030000
TZNAME:CEST
TZOFFSETFROM:+0100
TZOFFSETTO:+0200
END:DAYLIGHT
END:VTIMEZONE
END:VCALENDAR
