BEGIN:VCALENDAR
VERSION:2.0
PRODID:-//Plone.org//NONSGML plone.app.event//EN
X-WR-TIMEZONE:Europe/Berlin
BEGIN:VEVENT
SUMMARY:Gedruckt gut aussehen – Crashkurs Textgestaltung
DTSTART;TZID=Europe/Berlin:20190117T150000
DTEND;TZID=Europe/Berlin:20190117T190000
DTSTAMP:20260425T130830Z
UID:a53f79742845474f97a5ace68f353061@www.uni-marburg.de
ATTENDEE;CN="Dr. Matthias Warkus, www.matthias-warkus.de";ROLE=REQ-PARTICI
 PANT:Dr. Matthias Warkus, www.matthias-warkus.de
CREATED:20181129T102614Z
DESCRIPTION:https://www.uni-marburg.de/en/mara/pr-mara/events/2019/program
 -life-and-natural-sciences/gedruckt-gut-aussehen\n
LAST-MODIFIED:20190206T125910Z
LOCATION:Philipps-Universität Marburg\, MARA\, F|05\, Deutschhausstraße 
 11+13\, 1. OG\, Seminarraum 01.0030
URL:https://www.uni-marburg.de/en/mara/pr-mara/events/2019/program-life-an
 d-natural-sciences/gedruckt-gut-aussehen
END:VEVENT
BEGIN:VTIMEZONE
TZID:Europe/Berlin
X-LIC-LOCATION:Europe/Berlin
BEGIN:STANDARD
DTSTART:20181028T020000
TZNAME:CET
TZOFFSETFROM:+0200
TZOFFSETTO:+0100
END:STANDARD
END:VTIMEZONE
END:VCALENDAR
