BEGIN:VCALENDAR
VERSION:2.0
PRODID:-//Plone.org//NONSGML plone.app.event//EN
X-WR-TIMEZONE:Europe/Berlin
BEGIN:VEVENT
SUMMARY:Getting Started – Präsentationstraining in der Fremdsprache Deu
 tsch
DTSTART;TZID=Europe/Berlin:20200509T090000
DTEND;TZID=Europe/Berlin:20200509T160000
DTSTAMP:20260421T173712Z
UID:d5027d77912f4c2cb372e094e7c17fe1@www.uni-marburg.de
ATTENDEE;CN="Dr. Susanne Duxa";ROLE=REQ-PARTICIPANT:Dr. Susanne Duxa
CREATED:20180110T102726Z
DESCRIPTION:https://www.uni-marburg.de/en/mara/pr-mara/events/2020/program
 -humanities-and-social-sciences/praesentationstraining-in-der-fremdsprache
 -deutsch\n
LAST-MODIFIED:20200323T072632Z
LOCATION:Wird noch bekannt gegeben
URL:https://www.uni-marburg.de/en/mara/pr-mara/events/2020/program-humanit
 ies-and-social-sciences/praesentationstraining-in-der-fremdsprache-deutsch
END:VEVENT
BEGIN:VTIMEZONE
TZID:Europe/Berlin
X-LIC-LOCATION:Europe/Berlin
BEGIN:DAYLIGHT
DTSTART:20200329T030000
TZNAME:CEST
TZOFFSETFROM:+0100
TZOFFSETTO:+0200
END:DAYLIGHT
END:VTIMEZONE
END:VCALENDAR
