BEGIN:VCALENDAR
VERSION:2.0
PRODID:-//Plone.org//NONSGML plone.app.event//EN
X-WR-TIMEZONE:Europe/Berlin
BEGIN:VEVENT
SUMMARY:Assessment-Center leicht gemacht! – Online-Kurs
DTSTART;TZID=Europe/Berlin:20200911T090000
DTEND;TZID=Europe/Berlin:20200911T170000
DTSTAMP:20260423T024851Z
UID:070b5d1c996a4411afb6c2f4439443cd@www.uni-marburg.de
ATTENDEE;CN="Johanna Denzel";ROLE=REQ-PARTICIPANT:Johanna Denzel
CREATED:20181130T095409Z
DESCRIPTION:https://www.uni-marburg.de/en/mara/pr-mara/events/2020/program
 -life-and-natural-sciences/assessment-center\n
LAST-MODIFIED:20200804T085152Z
LOCATION:Online
URL:https://www.uni-marburg.de/en/mara/pr-mara/events/2020/program-life-an
 d-natural-sciences/assessment-center
END:VEVENT
BEGIN:VTIMEZONE
TZID:Europe/Berlin
X-LIC-LOCATION:Europe/Berlin
BEGIN:DAYLIGHT
DTSTART:20200329T030000
TZNAME:CEST
TZOFFSETFROM:+0100
TZOFFSETTO:+0200
END:DAYLIGHT
END:VTIMEZONE
END:VCALENDAR
