BEGIN:VCALENDAR
VERSION:2.0
PRODID:-//Plone.org//NONSGML plone.app.event//EN
X-WR-TIMEZONE:Europe/Berlin
BEGIN:VEVENT
SUMMARY:German Course – For International Doctoral Candidates and Postdo
 cs
DTSTART;VALUE=DATE:20200401
DTEND;VALUE=DATE:20201001
DTSTAMP:20260420T171021Z
UID:56163b84ffa341dd811dc54b6cf15b5b@www.uni-marburg.de
ATTENDEE;CN="Teachers from the Language Center of Philipps-Universität Ma
 rburg";ROLE=REQ-PARTICIPANT:Teachers from the Language Center of Philipps-
 Universität Marburg
CREATED:20181130T103506Z
DESCRIPTION:https://www.uni-marburg.de/en/mara/pr-mara/events/2020/program
 -life-and-natural-sciences/german_courses\n
LAST-MODIFIED:20191122T090935Z
LOCATION:To be announced later
URL:https://www.uni-marburg.de/en/mara/pr-mara/events/2020/program-life-an
 d-natural-sciences/german_courses
END:VEVENT
END:VCALENDAR
