BEGIN:VCALENDAR
VERSION:2.0
PRODID:-//Plone.org//NONSGML plone.app.event//EN
X-WR-TIMEZONE:Europe/Berlin
BEGIN:VEVENT
SUMMARY:GMP\, GLP und GCP – Grundlagen und erweiterte Anforderungen in d
 er pharmazeutischen Industrie
DTSTART;TZID=Europe/Berlin:20201015T090000
DTEND;TZID=Europe/Berlin:20201016T170000
DTSTAMP:20260422T121914Z
UID:3d473822b07d41c0a93f6c170605fb05@www.uni-marburg.de
ATTENDEE;CN="Dr. Christoph Prinz";ROLE=REQ-PARTICIPANT:Dr. Christoph Prinz
ATTENDEE;CN="Dr. Heinrich Prinz";ROLE=REQ-PARTICIPANT:Dr. Heinrich Prinz
CREATED:20181203T122828Z
DESCRIPTION:https://www.uni-marburg.de/en/mara/pr-mara/events/2020/program
 -life-and-natural-sciences/gmp-glp-und-gcp-1\n
LAST-MODIFIED:20200914T074336Z
LOCATION:Philipps-Universität Marburg\, Hörsaalgebäude\, Biegenstr. 14\
 ,  Hörsaal 00/0020
URL:https://www.uni-marburg.de/en/mara/pr-mara/events/2020/program-life-an
 d-natural-sciences/gmp-glp-und-gcp-1
END:VEVENT
BEGIN:VTIMEZONE
TZID:Europe/Berlin
X-LIC-LOCATION:Europe/Berlin
BEGIN:DAYLIGHT
DTSTART:20200329T030000
TZNAME:CEST
TZOFFSETFROM:+0100
TZOFFSETTO:+0200
END:DAYLIGHT
END:VTIMEZONE
END:VCALENDAR
