BEGIN:VCALENDAR
VERSION:2.0
PRODID:-//Plone.org//NONSGML plone.app.event//EN
X-WR-TIMEZONE:Europe/Berlin
BEGIN:VEVENT
SUMMARY:GMP\, GLP und GCP – Grundlagen und erweiterte Anforderungen in d
 er pharmazeutischen Industrie
DTSTART;TZID=Europe/Berlin:20200406T090000
DTEND;TZID=Europe/Berlin:20200407T170000
DTSTAMP:20260422T190653Z
UID:38526c5851ed4124a38977fb1fa3e4a6@www.uni-marburg.de
ATTENDEE;CN="Dr. Christoph Prinz (Head of Quality Management & Qualified P
 erson der Firma ^'apceth GmbH & Co. KG^') and";ROLE=REQ-PARTICIPANT:Dr. Ch
 ristoph Prinz (Head of Quality Management & Qualified Person der Firma "ap
 ceth GmbH & Co. KG") and
ATTENDEE;CN="Dr. Heinrich Prinz (PDM-Consulting)";ROLE=REQ-PARTICIPANT:Dr.
  Heinrich Prinz (PDM-Consulting)
CREATED:20181203T122828Z
DESCRIPTION:https://www.uni-marburg.de/en/mara/pr-mara/events/2020/program
 -life-and-natural-sciences/gmp-glp-und-gcp-april\n
LAST-MODIFIED:20191127T161043Z
LOCATION:Philipps-Universität Marburg\, MARA\, F|05\, Deutschhausstraße 
 11+13\, 1. OG\, Seminarraum 01.0010
URL:https://www.uni-marburg.de/en/mara/pr-mara/events/2020/program-life-an
 d-natural-sciences/gmp-glp-und-gcp-april
END:VEVENT
BEGIN:VTIMEZONE
TZID:Europe/Berlin
X-LIC-LOCATION:Europe/Berlin
BEGIN:DAYLIGHT
DTSTART:20200329T030000
TZNAME:CEST
TZOFFSETFROM:+0100
TZOFFSETTO:+0200
END:DAYLIGHT
END:VTIMEZONE
END:VCALENDAR
