BEGIN:VCALENDAR
VERSION:2.0
PRODID:-//Plone.org//NONSGML plone.app.event//EN
X-WR-TIMEZONE:Europe/Berlin
BEGIN:VEVENT
SUMMARY:GMP\, GLP und GCP – Grundlagen und erweiterte Anforderungen in d
 er pharmazeutischen Industrie
DTSTART;TZID=Europe/Berlin:20200206T090000
DTEND;TZID=Europe/Berlin:20200207T170000
DTSTAMP:20260421T213606Z
UID:9648b08a199d4eb89bfb852879117580@www.uni-marburg.de
ATTENDEE;CN="Dr. Christoph Prinz (Head of Quality Management & Qualified P
 erson der Firma ^'apceth GmbH & Co. KG^') and";ROLE=REQ-PARTICIPANT:Dr. Ch
 ristoph Prinz (Head of Quality Management & Qualified Person der Firma "ap
 ceth GmbH & Co. KG") and
ATTENDEE;CN="Dr. Heinrich Prinz (PDM-Consulting)";ROLE=REQ-PARTICIPANT:Dr.
  Heinrich Prinz (PDM-Consulting)
CREATED:20181203T122828Z
DESCRIPTION:https://www.uni-marburg.de/en/mara/pr-mara/events/2020/program
 -life-and-natural-sciences/gmp-glp-und-gcp\n
LAST-MODIFIED:20191127T145750Z
LOCATION:Philipps-Universität Marburg\, MARA\, F|05\, Deutschhausstraße 
 11+13\, 1. OG\, Seminarraum 01.0010
URL:https://www.uni-marburg.de/en/mara/pr-mara/events/2020/program-life-an
 d-natural-sciences/gmp-glp-und-gcp
END:VEVENT
BEGIN:VTIMEZONE
TZID:Europe/Berlin
X-LIC-LOCATION:Europe/Berlin
BEGIN:STANDARD
DTSTART:20191027T020000
TZNAME:CET
TZOFFSETFROM:+0200
TZOFFSETTO:+0100
END:STANDARD
END:VTIMEZONE
END:VCALENDAR
