BEGIN:VCALENDAR
VERSION:2.0
PRODID:-//Plone.org//NONSGML plone.app.event//EN
X-WR-TIMEZONE:Europe/Berlin
BEGIN:VEVENT
SUMMARY:Krisensurfen – Online-Kurs
DTSTART;TZID=Europe/Berlin:20200914T093000
DTEND;TZID=Europe/Berlin:20200915T130000
DTSTAMP:20260422T024229Z
UID:f6c76b759e16465a97724f78ed68e383@www.uni-marburg.de
ATTENDEE;CN="Dr. Steffi Beckhaus";ROLE=REQ-PARTICIPANT:Dr. Steffi Beckhaus
ATTENDEE;CN=www.steffi.beckhaus.de;ROLE=REQ-PARTICIPANT:www.steffi.beckhau
 s.de
CREATED:20181203T122828Z
DESCRIPTION:https://www.uni-marburg.de/en/mara/pr-mara/events/2020/program
 -life-and-natural-sciences/krisensurfen\n
LAST-MODIFIED:20200813T071801Z
LOCATION:Online
URL:https://www.uni-marburg.de/en/mara/pr-mara/events/2020/program-life-an
 d-natural-sciences/krisensurfen
END:VEVENT
BEGIN:VTIMEZONE
TZID:Europe/Berlin
X-LIC-LOCATION:Europe/Berlin
BEGIN:DAYLIGHT
DTSTART:20200329T030000
TZNAME:CEST
TZOFFSETFROM:+0100
TZOFFSETTO:+0200
END:DAYLIGHT
END:VTIMEZONE
END:VCALENDAR
