BEGIN:VCALENDAR
VERSION:2.0
PRODID:-//Plone.org//NONSGML plone.app.event//EN
X-WR-TIMEZONE:Europe/Berlin
BEGIN:VEVENT
SUMMARY:LaTeX für wissenschaftliche Arbeiten
DTSTART;TZID=Europe/Berlin:20200131T093000
DTEND;TZID=Europe/Berlin:20200131T173000
DTSTAMP:20260422T070809Z
UID:70daf04e1c784fe9afa8c60766cc8283@www.uni-marburg.de
ATTENDEE;CN="Dr. Matthias Warkus, www.matthias-warkus.de";ROLE=REQ-PARTICI
 PANT:Dr. Matthias Warkus, www.matthias-warkus.de
CREATED:20181129T104435Z
DESCRIPTION:https://www.uni-marburg.de/en/mara/pr-mara/events/2020/program
 -life-and-natural-sciences/latex\n
LAST-MODIFIED:20191127T144653Z
LOCATION:Philipps-Universität Marburg\, Centrum für Nah- und Mittelost-S
 tudien (CNMS)\, F|14\, Deutschhausstraße 12\, PC-Pool 00A12
URL:https://www.uni-marburg.de/en/mara/pr-mara/events/2020/program-life-an
 d-natural-sciences/latex
END:VEVENT
BEGIN:VTIMEZONE
TZID:Europe/Berlin
X-LIC-LOCATION:Europe/Berlin
BEGIN:STANDARD
DTSTART:20191027T020000
TZNAME:CET
TZOFFSETFROM:+0200
TZOFFSETTO:+0100
END:STANDARD
END:VTIMEZONE
END:VCALENDAR
