BEGIN:VCALENDAR
VERSION:2.0
PRODID:-//Plone.org//NONSGML plone.app.event//EN
X-WR-TIMEZONE:Europe/Berlin
BEGIN:VEVENT
SUMMARY:Projektmanagement mit Lean Six Sigma – Online-Kurs
DTSTART;TZID=Europe/Berlin:20201214T090000
DTEND;TZID=Europe/Berlin:20201215T163000
DTSTAMP:20260422T074119Z
UID:5f46a591da8f4bb3abb8a7381d3d6864@www.uni-marburg.de
ATTENDEE;CN="Prof. Dr. Marcellus Peuckert";ROLE=REQ-PARTICIPANT:Prof. Dr. 
 Marcellus Peuckert
CREATED:20181130T095409Z
DESCRIPTION:https://www.uni-marburg.de/en/mara/pr-mara/events/2020/program
 -life-and-natural-sciences/projektmanagement-six\n
LAST-MODIFIED:20201027T125002Z
LOCATION:Online
URL:https://www.uni-marburg.de/en/mara/pr-mara/events/2020/program-life-an
 d-natural-sciences/projektmanagement-six
END:VEVENT
BEGIN:VTIMEZONE
TZID:Europe/Berlin
X-LIC-LOCATION:Europe/Berlin
BEGIN:STANDARD
DTSTART:20201025T020000
TZNAME:CET
TZOFFSETFROM:+0200
TZOFFSETTO:+0100
END:STANDARD
END:VTIMEZONE
END:VCALENDAR
