BEGIN:VCALENDAR
VERSION:2.0
PRODID:-//Plone.org//NONSGML plone.app.event//EN
X-WR-TIMEZONE:Europe/Berlin
BEGIN:VEVENT
SUMMARY:Scientific Presentations – Beyond Facts Fatigue
DTSTART;TZID=Europe/Berlin:20200313T090000
DTEND;TZID=Europe/Berlin:20200314T170000
DTSTAMP:20260422T023656Z
UID:b739434eb94e448c81f8010fe387c690@www.uni-marburg.de
ATTENDEE;CN="Dr. Constanze Armbrecht";ROLE=REQ-PARTICIPANT:Dr. Constanze A
 rmbrecht
CREATED:20181130T102605Z
DESCRIPTION:https://www.uni-marburg.de/en/mara/pr-mara/events/2020/program
 -life-and-natural-sciences/scientific-presentations\n
LAST-MODIFIED:20191127T155037Z
LOCATION:Philipps-Universität Marburg\, MARA\, F|05\, Deutschhausstraße 
 11+13\, 1st floor\, seminar room 01.0010
URL:https://www.uni-marburg.de/en/mara/pr-mara/events/2020/program-life-an
 d-natural-sciences/scientific-presentations
END:VEVENT
BEGIN:VTIMEZONE
TZID:Europe/Berlin
X-LIC-LOCATION:Europe/Berlin
BEGIN:STANDARD
DTSTART:20191027T020000
TZNAME:CET
TZOFFSETFROM:+0200
TZOFFSETTO:+0100
END:STANDARD
END:VTIMEZONE
END:VCALENDAR
