BEGIN:VCALENDAR
VERSION:2.0
PRODID:-//Plone.org//NONSGML plone.app.event//EN
X-WR-TIMEZONE:Europe/Berlin
BEGIN:VEVENT
SUMMARY:Teamwork – How to Improve Collaboration
DTSTART;TZID=Europe/Berlin:20201006T090000
DTEND;TZID=Europe/Berlin:20201006T170000
DTSTAMP:20260422T220414Z
UID:f8b70f2053ff40d586bda8c90566f822@www.uni-marburg.de
ATTENDEE;CN="Dr. Julia F. Späth, www.fit4trust.com";ROLE=REQ-PARTICIPANT:
 Dr. Julia F. Späth, www.fit4trust.com
CREATED:20181130T095409Z
DESCRIPTION:https://www.uni-marburg.de/en/mara/pr-mara/events/2020/program
 -life-and-natural-sciences/teamwrk_how-to-improve_coll\n
LAST-MODIFIED:20200605T100517Z
LOCATION:Philipps-Universität Marburg\, MARA\, F|05\, Deutschhausstraße 
 11+13\, 1st floor\, seminar room 01.0010
URL:https://www.uni-marburg.de/en/mara/pr-mara/events/2020/program-life-an
 d-natural-sciences/teamwrk_how-to-improve_coll
END:VEVENT
BEGIN:VTIMEZONE
TZID:Europe/Berlin
X-LIC-LOCATION:Europe/Berlin
BEGIN:DAYLIGHT
DTSTART:20200329T030000
TZNAME:CEST
TZOFFSETFROM:+0100
TZOFFSETTO:+0200
END:DAYLIGHT
END:VTIMEZONE
END:VCALENDAR
