BEGIN:VCALENDAR
VERSION:2.0
PRODID:-//Plone.org//NONSGML plone.app.event//EN
X-WR-TIMEZONE:Europe/Berlin
BEGIN:VEVENT
SUMMARY:Versuchstierkunde – Tierschutzgerechter Umgang mit Labormäusen 
 oder -ratten
DTSTART;TZID=Europe/Berlin:20201013T083000
DTEND;TZID=Europe/Berlin:20201013T170000
DTSTAMP:20260422T212142Z
UID:39b08d6af0af435d83c8869aabd92f4f@www.uni-marburg.de
RRULE:FREQ=DAILY;COUNT=1
RDATE;TZID=Europe/Berlin:20201015T083000
ATTENDEE;CN="Dr. Cornelia Exner";ROLE=REQ-PARTICIPANT:Dr. Cornelia Exner
ATTENDEE;CN="Dr. André Kaminiarz";ROLE=REQ-PARTICIPANT:Dr. André Kaminia
 rz
ATTENDEE;CN="Dr. Hosam Shams-Eldin";ROLE=REQ-PARTICIPANT:Dr. Hosam Shams-E
 ldin
ATTENDEE;CN="Dr. Sabrina Elmshäuser";ROLE=REQ-PARTICIPANT:Dr. Sabrina Elm
 shäuser
CREATED:20200916T115724Z
DESCRIPTION:https://www.uni-marburg.de/en/mara/pr-mara/events/2020/program
 -life-and-natural-sciences/versuchstierkunde\n
LAST-MODIFIED:20200921T074313Z
LOCATION:Biochemisch-Pharmakologisches Centrum (BPC)\, Karl-von-Frisch-Str
 aße 2\, Praktikumsräume -1/1070 und -1/1060
URL:https://www.uni-marburg.de/en/mara/pr-mara/events/2020/program-life-an
 d-natural-sciences/versuchstierkunde
END:VEVENT
BEGIN:VTIMEZONE
TZID:Europe/Berlin
X-LIC-LOCATION:Europe/Berlin
BEGIN:DAYLIGHT
DTSTART:20200329T030000
TZNAME:CEST
TZOFFSETFROM:+0100
TZOFFSETTO:+0200
END:DAYLIGHT
END:VTIMEZONE
END:VCALENDAR
