BEGIN:VCALENDAR
VERSION:2.0
PRODID:-//Plone.org//NONSGML plone.app.event//EN
X-WR-TIMEZONE:Europe/Berlin
BEGIN:VEVENT
SUMMARY:Wie funktionieren Unternehmen? – Mein Einstieg in die Wirtschaft
DTSTART;TZID=Europe/Berlin:20200507T090000
DTEND;TZID=Europe/Berlin:20200508T170000
DTSTAMP:20260422T075552Z
UID:ef85446984ef4f4d90206549d0bb87d3@www.uni-marburg.de
ATTENDEE;CN="Dr. Martin Kaminski";ROLE=REQ-PARTICIPANT:Dr. Martin Kaminski
CREATED:20181130T092644Z
DESCRIPTION:https://www.uni-marburg.de/en/mara/pr-mara/events/2020/program
 -life-and-natural-sciences/wie-funktionieren-unternehmen\n
LAST-MODIFIED:20191127T163956Z
LOCATION:Philipps-Universität Marburg\, MARA\, F|05\, Deutschhausstraße 
 11+13\, 1. OG\, Seminarraum 01.0010
URL:https://www.uni-marburg.de/en/mara/pr-mara/events/2020/program-life-an
 d-natural-sciences/wie-funktionieren-unternehmen
END:VEVENT
BEGIN:VTIMEZONE
TZID:Europe/Berlin
X-LIC-LOCATION:Europe/Berlin
BEGIN:DAYLIGHT
DTSTART:20200329T030000
TZNAME:CEST
TZOFFSETFROM:+0100
TZOFFSETTO:+0200
END:DAYLIGHT
END:VTIMEZONE
END:VCALENDAR
