BEGIN:VCALENDAR
VERSION:2.0
PRODID:-//Plone.org//NONSGML plone.app.event//EN
X-WR-TIMEZONE:Europe/Berlin
BEGIN:VEVENT
SUMMARY:Writing Lab – Writing Scientific Publications in the Life and Na
 tural Sciences – Online Course
DTSTART;TZID=Europe/Berlin:20190918T090000
DTEND;TZID=Europe/Berlin:20190919T160000
DTSTAMP:20260421T223520Z
UID:849518c921f14cee8812e45b91a5cb71@www.uni-marburg.de
ATTENDEE;CN="Dr. Melanie Lynn Conrad";ROLE=REQ-PARTICIPANT:Dr. Melanie Lyn
 n Conrad
CREATED:20181130T103506Z
DESCRIPTION:https://www.uni-marburg.de/en/mara/pr-mara/events/2020/program
 -life-and-natural-sciences/wl-scientific-publications\n
LAST-MODIFIED:20200729T132227Z
LOCATION:Online
URL:https://www.uni-marburg.de/en/mara/pr-mara/events/2020/program-life-an
 d-natural-sciences/wl-scientific-publications
END:VEVENT
BEGIN:VTIMEZONE
TZID:Europe/Berlin
X-LIC-LOCATION:Europe/Berlin
BEGIN:DAYLIGHT
DTSTART:20190331T030000
TZNAME:CEST
TZOFFSETFROM:+0100
TZOFFSETTO:+0200
END:DAYLIGHT
END:VTIMEZONE
END:VCALENDAR
