BEGIN:VCALENDAR
VERSION:2.0
PRODID:-//Plone.org//NONSGML plone.app.event//EN
X-WR-TIMEZONE:Europe/Berlin
BEGIN:VEVENT
SUMMARY:Writing Lab – Getting Published Abroad in the Humanities and Soc
 ial Sciences – Online Course
DTSTART;TZID=Europe/Berlin:20210329T140000
DTEND;TZID=Europe/Berlin:20210329T180000
DTSTAMP:20260421T082807Z
UID:cc5e6de7c1bb4f02b753d31b2f7ecb74@www.uni-marburg.de
ATTENDEE;CN="Stephan Elkins, www.english-academic-writing.de";ROLE=REQ-PAR
 TICIPANT:Stephan Elkins, www.english-academic-writing.de
CREATED:20180110T100212Z
DESCRIPTION:https://www.uni-marburg.de/en/mara/pr-mara/events/2021/program
 -humanities-and-social-sciences/writing-lab_getting-published-abroad\n
LAST-MODIFIED:20210122T072617Z
LOCATION:Online
URL:https://www.uni-marburg.de/en/mara/pr-mara/events/2021/program-humanit
 ies-and-social-sciences/writing-lab_getting-published-abroad
END:VEVENT
BEGIN:VTIMEZONE
TZID:Europe/Berlin
X-LIC-LOCATION:Europe/Berlin
BEGIN:DAYLIGHT
DTSTART:20210328T030000
TZNAME:CEST
TZOFFSETFROM:+0100
TZOFFSETTO:+0200
END:DAYLIGHT
END:VTIMEZONE
END:VCALENDAR
