BEGIN:VCALENDAR
VERSION:2.0
PRODID:-//Plone.org//NONSGML plone.app.event//EN
X-WR-TIMEZONE:Europe/Berlin
BEGIN:VEVENT
SUMMARY:Einführung in das Forschungsdatenmanagement – Haben Sie Ihre Da
 tenflut im Griff? – Online-Kurs
DTSTART;TZID=Europe/Berlin:20210929T090000
DTEND;TZID=Europe/Berlin:20210929T130000
DTSTAMP:20260423T233806Z
UID:c4f0dec905cc4fe49169452393342fd3@www.uni-marburg.de
ATTENDEE;CN="Dr. Esther Krähwinkel";ROLE=REQ-PARTICIPANT:Dr. Esther Kräh
 winkel
ATTENDEE;CN="Dr. Birte Cordes";ROLE=REQ-PARTICIPANT:Dr. Birte Cordes
CREATED:20210414T125521Z
DESCRIPTION:https://www.uni-marburg.de/en/mara/pr-mara/events/2021/program
 -life-and-natural-sciences/einfuehrung-in-das-forschungsdatenmanagement\n
LAST-MODIFIED:20210902T103429Z
LOCATION:Online
URL:https://www.uni-marburg.de/en/mara/pr-mara/events/2021/program-life-an
 d-natural-sciences/einfuehrung-in-das-forschungsdatenmanagement
END:VEVENT
BEGIN:VTIMEZONE
TZID:Europe/Berlin
X-LIC-LOCATION:Europe/Berlin
BEGIN:DAYLIGHT
DTSTART:20210328T030000
TZNAME:CEST
TZOFFSETFROM:+0100
TZOFFSETTO:+0200
END:DAYLIGHT
END:VTIMEZONE
END:VCALENDAR
