BEGIN:VCALENDAR
VERSION:2.0
PRODID:-//Plone.org//NONSGML plone.app.event//EN
X-WR-TIMEZONE:Europe/Berlin
BEGIN:VEVENT
SUMMARY:Wie funktionieren Unternehmen? – Mein Einstieg in die Wirtschaft
  – Online-Kurs
DTSTART;TZID=Europe/Berlin:20210222T090000
DTEND;TZID=Europe/Berlin:20210222T170000
DTSTAMP:20260425T130708Z
UID:d22424c8254d467caff29b4d6b92b3fc@www.uni-marburg.de
ATTENDEE;CN="Dr. Martin Kaminski";ROLE=REQ-PARTICIPANT:Dr. Martin Kaminski
CREATED:20201202T133549Z
DESCRIPTION:https://www.uni-marburg.de/en/mara/pr-mara/events/2021/program
 -life-and-natural-sciences/wie-funktionieren-unternehmen\n
LAST-MODIFIED:20210203T091428Z
LOCATION:Online
URL:https://www.uni-marburg.de/en/mara/pr-mara/events/2021/program-life-an
 d-natural-sciences/wie-funktionieren-unternehmen
END:VEVENT
BEGIN:VTIMEZONE
TZID:Europe/Berlin
X-LIC-LOCATION:Europe/Berlin
BEGIN:STANDARD
DTSTART:20201025T020000
TZNAME:CET
TZOFFSETFROM:+0200
TZOFFSETTO:+0100
END:STANDARD
END:VTIMEZONE
END:VCALENDAR
