BEGIN:VCALENDAR
VERSION:2.0
PRODID:-//Plone.org//NONSGML plone.app.event//EN
X-WR-TIMEZONE:Europe/Berlin
BEGIN:VEVENT
SUMMARY:Autumn School – Erfolgreich gründen!
DTSTART;TZID=Europe/Berlin:20221013T100000
DTEND;TZID=Europe/Berlin:20221013T163000
DTSTAMP:20260420T002918Z
UID:34445b2cf2e54f0587f9ada762417d6e@www.uni-marburg.de
RRULE:FREQ=DAILY;UNTIL=20221014T000000
ATTENDEE;CN="Sarah Franke, Björn Langenberg";ROLE=REQ-PARTICIPANT:Sarah F
 ranke, Björn Langenberg
ATTENDEE;CN=www.mafex.de;ROLE=REQ-PARTICIPANT:www.mafex.de
CREATED:20220719T095612Z
DESCRIPTION:https://www.uni-marburg.de/en/mara/pr-mara/events/2022/program
 -for-postdocs/autumn_school-2022\nIn dieser Veranstaltung legen Sie einen 
 Grundstein für Ihre erfolgreiche Existenzgründung. Sie lernen betriebswi
 rtschaftliche und rechtliche Grundlagen kennen\, erstellen aus Ihren Ideen
  Geschäftsmodelle und erkunden Finanzierungsmöglichkeiten.
LAST-MODIFIED:20220915T093842Z
LOCATION:MARA F|05\, Deutschhausstraße 11+13\, Seminarraum 01.0010
URL:https://www.uni-marburg.de/en/mara/pr-mara/events/2022/program-for-pos
 tdocs/autumn_school-2022
END:VEVENT
BEGIN:VTIMEZONE
TZID:Europe/Berlin
X-LIC-LOCATION:Europe/Berlin
BEGIN:DAYLIGHT
DTSTART:20220327T030000
TZNAME:CEST
TZOFFSETFROM:+0100
TZOFFSETTO:+0200
END:DAYLIGHT
END:VTIMEZONE
END:VCALENDAR
