BEGIN:VCALENDAR
VERSION:2.0
PRODID:-//Plone.org//NONSGML plone.app.event//EN
X-WR-TIMEZONE:Europe/Berlin
BEGIN:VEVENT
SUMMARY:EMF – Deutsche und europäische Forschungsförderung im Überbli
 ck – Onlineveranstaltung
DTSTART;TZID=Europe/Berlin:20220205T090000
DTEND;TZID=Europe/Berlin:20220205T163000
DTSTAMP:20260420T061815Z
UID:d0eea764664d4fdf956daaf389bc9f2d@www.uni-marburg.de
ATTENDEE;CN="Dr. Christine Schmidt";ROLE=REQ-PARTICIPANT:Dr. Christine Sch
 midt
CREATED:20181203T210138Z
DESCRIPTION:https://www.uni-marburg.de/en/mara/pr-mara/events/2022/program
 -for-postdocs/emf-forschungsfoerderung_2022\nLernen Sie in dieser Veransta
 ltung die deutsche und europäische Forschungsförderung kennen.
LAST-MODIFIED:20220121T082950Z
LOCATION:Online
URL:https://www.uni-marburg.de/en/mara/pr-mara/events/2022/program-for-pos
 tdocs/emf-forschungsfoerderung_2022
END:VEVENT
BEGIN:VTIMEZONE
TZID:Europe/Berlin
X-LIC-LOCATION:Europe/Berlin
BEGIN:STANDARD
DTSTART:20211031T020000
TZNAME:CET
TZOFFSETFROM:+0200
TZOFFSETTO:+0100
END:STANDARD
END:VTIMEZONE
END:VCALENDAR
