BEGIN:VCALENDAR
VERSION:2.0
PRODID:-//Plone.org//NONSGML plone.app.event//EN
X-WR-TIMEZONE:Europe/Berlin
BEGIN:VEVENT
SUMMARY:EMF – Fundraising für Wissenschaftler/-innen – Onlineveransta
 ltung
DTSTART;TZID=Europe/Berlin:20220922T090000
DTEND;TZID=Europe/Berlin:20220922T163000
DTSTAMP:20260421T030719Z
UID:629a776cc3f94d5ebb01e45b54d70b5e@www.uni-marburg.de
ATTENDEE;CN="Prof. Matthias Notz";ROLE=REQ-PARTICIPANT:Prof. Matthias Notz
CREATED:20181203T210138Z
DESCRIPTION:https://www.uni-marburg.de/en/mara/pr-mara/events/2022/program
 -for-postdocs/emf-fundraising\nDiese Veranstaltung gibt Ihnen einen Überb
 lick über die Themen Fundraising und Sponsoring diesseits und jenseits de
 r Universität.
LAST-MODIFIED:20220906T113157Z
LOCATION:Online
URL:https://www.uni-marburg.de/en/mara/pr-mara/events/2022/program-for-pos
 tdocs/emf-fundraising
END:VEVENT
BEGIN:VTIMEZONE
TZID:Europe/Berlin
X-LIC-LOCATION:Europe/Berlin
BEGIN:DAYLIGHT
DTSTART:20220327T030000
TZNAME:CEST
TZOFFSETFROM:+0100
TZOFFSETTO:+0200
END:DAYLIGHT
END:VTIMEZONE
END:VCALENDAR
