BEGIN:VCALENDAR
VERSION:2.0
PRODID:-//Plone.org//NONSGML plone.app.event//EN
X-WR-TIMEZONE:Europe/Berlin
BEGIN:VEVENT
SUMMARY:EMF – Informationsveranstaltung zum Programm „Entwicklung und 
 Management von Forschungsprojekten“ – Online event
DTSTART;TZID=Europe/Berlin:20221101T150000
DTEND;TZID=Europe/Berlin:20221101T160000
DTSTAMP:20260421T190212Z
UID:718cf4e362404dd08dab0dbc61e31f96@www.uni-marburg.de
ATTENDEE;CN="Dr. Christine Berger";ROLE=REQ-PARTICIPANT:Dr. Christine Berg
 er
CREATED:20220528T155621Z
DESCRIPTION:https://www.uni-marburg.de/en/mara/pr-mara/events/2022/program
 -for-postdocs/emf-informationsveranstaltung\nDr. Christine Berger\, die Ko
 ordinatorin des Programms\, erläutert die Ziele sowie den Ablauf des Zert
 ifikatprogramms „Entwicklung und Management von Forschungsprojekten" (EM
 F) und stellt dessen Module Projektentwicklung und Projektbeantragung\, Pr
 ojektmanagement\, Präsentation von Forschungsprojekten und Transfer vor.
LAST-MODIFIED:20221018T104821Z
LOCATION:Online in BBB
URL:https://www.uni-marburg.de/en/mara/pr-mara/events/2022/program-for-pos
 tdocs/emf-informationsveranstaltung
END:VEVENT
BEGIN:VTIMEZONE
TZID:Europe/Berlin
X-LIC-LOCATION:Europe/Berlin
BEGIN:STANDARD
DTSTART:20221030T020000
TZNAME:CET
TZOFFSETFROM:+0200
TZOFFSETTO:+0100
END:STANDARD
END:VTIMEZONE
END:VCALENDAR
