BEGIN:VCALENDAR
VERSION:2.0
PRODID:-//Plone.org//NONSGML plone.app.event//EN
X-WR-TIMEZONE:Europe/Berlin
BEGIN:VEVENT
SUMMARY:Academic Fixed-Term Contract Act – Overview on the "Wissenschaft
 szeitvertragsgesetz"
DTSTART;TZID=Europe/Berlin:20220215T093000
DTEND;TZID=Europe/Berlin:20220215T113000
DTSTAMP:20260421T121045Z
UID:a6b3dc4c7baa491a9f6fdce58b4e1093@www.uni-marburg.de
ATTENDEE;CN="Dr. Ulrike Preißler";ROLE=REQ-PARTICIPANT:Dr. Ulrike Preißl
 er
ATTENDEE;CN=www.hochschulverband.de;ROLE=REQ-PARTICIPANT:www.hochschulverb
 and.de
CREATED:20190829T124332Z
DESCRIPTION:https://www.uni-marburg.de/en/mara/pr-mara/events/2022/program
 -for-postdocs/informationsveranstaltung-zum-wissenschaftszeitvertragsgeset
 z_2022\nEvent for doctoral candidates and postdocs in the qualification ph
 ase
LAST-MODIFIED:20220204T163824Z
LOCATION:Online
URL:https://www.uni-marburg.de/en/mara/pr-mara/events/2022/program-for-pos
 tdocs/informationsveranstaltung-zum-wissenschaftszeitvertragsgesetz_2022
END:VEVENT
BEGIN:VTIMEZONE
TZID:Europe/Berlin
X-LIC-LOCATION:Europe/Berlin
BEGIN:STANDARD
DTSTART:20211031T020000
TZNAME:CET
TZOFFSETFROM:+0200
TZOFFSETTO:+0100
END:STANDARD
END:VTIMEZONE
END:VCALENDAR
