BEGIN:VCALENDAR
VERSION:2.0
PRODID:-//Plone.org//NONSGML plone.app.event//EN
X-WR-TIMEZONE:Europe/Berlin
BEGIN:VEVENT
SUMMARY:GMP-Aufbaukurs – Online-Kurs
DTSTART;TZID=Europe/Berlin:20221201T090000
DTEND;TZID=Europe/Berlin:20221201T170000
DTSTAMP:20260425T050507Z
UID:8fc99509cc51498c9c0d7b9d47b73acc@www.uni-marburg.de
RRULE:FREQ=DAILY;COUNT=1
RDATE;TZID=Europe/Berlin:20221118T090000
ATTENDEE;CN="Dr. Heinrich Prinz (PDM-Consulting)";ROLE=REQ-PARTICIPANT:Dr.
  Heinrich Prinz (PDM-Consulting)
ATTENDEE;CN="Dr. Christoph Prinz (Head of Quality Assurance GMP & Qualifie
 d Person der Firma ^'BioNTech SE^')";ROLE=REQ-PARTICIPANT:Dr. Christoph Pr
 inz (Head of Quality Assurance GMP & Qualified Person der Firma "BioNTech 
 SE")
CREATED:20210629T124011Z
DESCRIPTION:https://www.uni-marburg.de/en/mara/pr-mara/events/2022/program
 -life-and-natural-sciences/gmp-aufbaukurs-1\n
LAST-MODIFIED:20221117T102221Z
LOCATION:Online
URL:https://www.uni-marburg.de/en/mara/pr-mara/events/2022/program-life-an
 d-natural-sciences/gmp-aufbaukurs-1
END:VEVENT
BEGIN:VTIMEZONE
TZID:Europe/Berlin
X-LIC-LOCATION:Europe/Berlin
BEGIN:STANDARD
DTSTART:20221030T020000
TZNAME:CET
TZOFFSETFROM:+0200
TZOFFSETTO:+0100
END:STANDARD
END:VTIMEZONE
END:VCALENDAR
