BEGIN:VCALENDAR
VERSION:2.0
PRODID:-//Plone.org//NONSGML plone.app.event//EN
X-WR-TIMEZONE:Europe/Berlin
BEGIN:VEVENT
SUMMARY:Praxisteil Versuchstierkunde – Tierschutzgerechter Umgang mit La
 bormäusen/-ratten
DTSTART;VALUE=DATE:20221004
DTEND;VALUE=DATE:20221005
DTSTAMP:20260423T170756Z
UID:cbe12f9c58fb426285ad4158f8603c25@www.uni-marburg.de
RRULE:FREQ=DAILY;COUNT=1
RDATE:20221005
ATTENDEE;CN="Dr. Cornelia Exner";ROLE=REQ-PARTICIPANT:Dr. Cornelia Exner
ATTENDEE;CN="Dr. André Kaminiarz";ROLE=REQ-PARTICIPANT:Dr. André Kaminia
 rz
ATTENDEE;CN="Dr. Hosam Shams-Eldin";ROLE=REQ-PARTICIPANT:Dr. Hosam Shams-E
 ldin
ATTENDEE;CN="Dr. Sabrina Elmshäuser";ROLE=REQ-PARTICIPANT:Dr. Sabrina Elm
 shäuser
CREATED:20201222T173710Z
DESCRIPTION:https://www.uni-marburg.de/en/mara/pr-mara/events/2022/program
 -life-and-natural-sciences/versuchstierkunde-tierschutzgerechter-umgang-mi
 t-labormaeusen-oder-ratten\n
LAST-MODIFIED:20220922T075318Z
LOCATION:Biochemisch-Pharmakologisches Centrum (BPC)\, Karl-von-Frisch-Str
 aße 2\, Praktikumsräume -1/1070 und -1/1060
URL:https://www.uni-marburg.de/en/mara/pr-mara/events/2022/program-life-an
 d-natural-sciences/versuchstierkunde-tierschutzgerechter-umgang-mit-laborm
 aeusen-oder-ratten
END:VEVENT
END:VCALENDAR
