BEGIN:VCALENDAR
VERSION:2.0
PRODID:-//Plone.org//NONSGML plone.app.event//EN
X-WR-TIMEZONE:Europe/Berlin
BEGIN:VEVENT
SUMMARY:MARA Online Informational Event for Doctoral Candidates and Postdo
 cs
DTSTART;TZID=Europe/Berlin:20220318T100000
DTEND;TZID=Europe/Berlin:20220318T110000
DTSTAMP:20260421T180041Z
UID:47dc75ef9c65439bbefefe16b2b5b93f@www.uni-marburg.de
ATTENDEE;CN="Dr. Ines Braune (MARA Managing Director)";ROLE=REQ-PARTICIPAN
 T:Dr. Ines Braune (MARA Managing Director)
ATTENDEE;CN="Dr. Karin Awe (Program for Doctoral Candidates)";ROLE=REQ-PAR
 TICIPANT:Dr. Karin Awe (Program for Doctoral Candidates)
ATTENDEE;CN="Dr. Christine Berger (Program for Postdocs)";ROLE=REQ-PARTICI
 PANT:Dr. Christine Berger (Program for Postdocs)
ATTENDEE;CN="Dr. Jan-Paul Klünder (Funding Opportunities / Public Relatio
 ns)";ROLE=REQ-PARTICIPANT:Dr. Jan-Paul Klünder (Funding Opportunities / P
 ublic Relations)
CREATED:20181203T210138Z
DESCRIPTION:https://www.uni-marburg.de/en/mara/pr-mara/events/2022/program
 -managing-division/mara-informationalevent-2022\nThis online informational
  event gives you an overview of the MARA offers for doctoral candidates an
 d postdocs.
LAST-MODIFIED:20221117T165711Z
LOCATION:Online
URL:https://www.uni-marburg.de/en/mara/pr-mara/events/2022/program-managin
 g-division/mara-informationalevent-2022
END:VEVENT
BEGIN:VTIMEZONE
TZID:Europe/Berlin
X-LIC-LOCATION:Europe/Berlin
BEGIN:STANDARD
DTSTART:20211031T020000
TZNAME:CET
TZOFFSETFROM:+0200
TZOFFSETTO:+0100
END:STANDARD
END:VTIMEZONE
END:VCALENDAR
