BEGIN:VCALENDAR
VERSION:2.0
PRODID:-//Plone.org//NONSGML plone.app.event//EN
X-WR-TIMEZONE:Europe/Berlin
BEGIN:VEVENT
SUMMARY:Online-Informationsveranstaltung der MARA für Promovierende und P
 ostdocs
DTSTART;TZID=Europe/Berlin:20220310T100000
DTEND;TZID=Europe/Berlin:20220310T110000
DTSTAMP:20260422T024334Z
UID:c5d035f624be40bdafffe5b2307ca05f@www.uni-marburg.de
ATTENDEE;CN="Dr. Ines Braune (Geschäftsführung der MARA)";ROLE=REQ-PARTI
 CIPANT:Dr. Ines Braune (Geschäftsführung der MARA)
ATTENDEE;CN="Dr. Karin Awe (Koordinatorin des Promovierendenprogramms der 
 MARA)";ROLE=REQ-PARTICIPANT:Dr. Karin Awe (Koordinatorin des Promovierende
 nprogramms der MARA)
ATTENDEE;CN="Dr. Christine Berger (Koordinatorin des Postdocprogramms der 
 MARA)";ROLE=REQ-PARTICIPANT:Dr. Christine Berger (Koordinatorin des Postdo
 cprogramms der MARA)
ATTENDEE;CN="Dr. Jan-Paul Klünder (Referent Fördermöglichkeiten und Öf
 fentlichkeitsarbeit der MARA)";ROLE=REQ-PARTICIPANT:Dr. Jan-Paul Klünder 
 (Referent Fördermöglichkeiten und Öffentlichkeitsarbeit der MARA)
CREATED:20181203T210138Z
DESCRIPTION:https://www.uni-marburg.de/en/mara/pr-mara/events/2022/program
 -managing-division/mara-infoveranstaltung-2022\nIn dieser Online-Informati
 onsveranstaltung erhalten Sie einen Überblick über die Angebote der MARA
  für Promovierende und Postdocs.
LAST-MODIFIED:20220314T092930Z
LOCATION:Online
URL:https://www.uni-marburg.de/en/mara/pr-mara/events/2022/program-managin
 g-division/mara-infoveranstaltung-2022
END:VEVENT
BEGIN:VTIMEZONE
TZID:Europe/Berlin
X-LIC-LOCATION:Europe/Berlin
BEGIN:STANDARD
DTSTART:20211031T020000
TZNAME:CET
TZOFFSETFROM:+0200
TZOFFSETTO:+0100
END:STANDARD
END:VTIMEZONE
END:VCALENDAR
