BEGIN:VCALENDAR
VERSION:2.0
PRODID:-//Plone.org//NONSGML plone.app.event//EN
X-WR-TIMEZONE:Europe/Berlin
BEGIN:VEVENT
SUMMARY:EMF – Decision Making for (future) Team Leaders – Online event
DTSTART;TZID=Europe/Berlin:20240906T090000
DTEND;TZID=Europe/Berlin:20240906T170000
DTSTAMP:20260420T155824Z
UID:048600523179402e901cb4fe72c3765f@www.uni-marburg.de
ATTENDEE;CN="Vicent Botella-Soler, PhD";ROLE=REQ-PARTICIPANT:Vicent Botell
 a-Soler, PhD
ATTENDEE;CN=www.dickersonetal.com;ROLE=REQ-PARTICIPANT:www.dickersonetal.c
 om
CREATED:20181203T210138Z
DESCRIPTION:https://www.uni-marburg.de/en/mara/pr-mara/events/2024/program
 -for-postdocs/decision_making\nTrain to make decisions for yourself and fo
 r your team as a leading person.
LAST-MODIFIED:20240228T085839Z
LOCATION:Online
URL:https://www.uni-marburg.de/en/mara/pr-mara/events/2024/program-for-pos
 tdocs/decision_making
END:VEVENT
BEGIN:VTIMEZONE
TZID:Europe/Berlin
X-LIC-LOCATION:Europe/Berlin
BEGIN:DAYLIGHT
DTSTART:20240331T030000
TZNAME:CEST
TZOFFSETFROM:+0100
TZOFFSETTO:+0200
END:DAYLIGHT
END:VTIMEZONE
END:VCALENDAR
