BEGIN:VCALENDAR
VERSION:2.0
PRODID:-//Plone.org//NONSGML plone.app.event//EN
X-WR-TIMEZONE:Europe/Berlin
BEGIN:VEVENT
SUMMARY:EMF – Design of and Application for Third-Party-Funded Projects 
 – Online Event
DTSTART;TZID=Europe/Berlin:20240327T090000
DTEND;TZID=Europe/Berlin:20240327T170000
DTSTAMP:20260421T131138Z
UID:c33a793a79464fe186534bb722e4339b@www.uni-marburg.de
RRULE:FREQ=DAILY;COUNT=2;INTERVAL=28
ATTENDEE;CN="Prof. Dr. Annette Kolb";ROLE=REQ-PARTICIPANT:Prof. Dr. Annett
 e Kolb
ATTENDEE;CN=www.coachademics.de;ROLE=REQ-PARTICIPANT:www.coachademics.de
ATTENDEE;CN=;ROLE=REQ-PARTICIPANT:
CREATED:20181203T210138Z
DESCRIPTION:https://www.uni-marburg.de/en/mara/pr-mara/events/2024/program
 -for-postdocs/emf-design_and_application\nThis two-day event supports you 
 in the (further) development of your own project idea\, the search for sui
 table funding opportunities and the preparation of your research proposal.
LAST-MODIFIED:20240228T085442Z
LOCATION:Online
URL:https://www.uni-marburg.de/en/mara/pr-mara/events/2024/program-for-pos
 tdocs/emf-design_and_application
END:VEVENT
BEGIN:VTIMEZONE
TZID:Europe/Berlin
X-LIC-LOCATION:Europe/Berlin
BEGIN:STANDARD
DTSTART:20231029T020000
TZNAME:CET
TZOFFSETFROM:+0200
TZOFFSETTO:+0100
END:STANDARD
END:VTIMEZONE
END:VCALENDAR
