BEGIN:VCALENDAR
VERSION:2.0
PRODID:-//Plone.org//NONSGML plone.app.event//EN
X-WR-TIMEZONE:Europe/Berlin
BEGIN:VEVENT
SUMMARY:EMF – Leadership and Staff Supervision – In-person event
DTSTART;VALUE=DATE:20240711
DTEND;VALUE=DATE:20240712
DTSTAMP:20260420T155828Z
UID:06ddf6a6250b495aa0cf326c25cf4d48@www.uni-marburg.de
RRULE:FREQ=DAILY;COUNT=1
RDATE:20240712
ATTENDEE;CN="Dr. Alexander Egeling";ROLE=REQ-PARTICIPANT:Dr. Alexander Ege
 ling
ATTENDEE;CN=www.alexander-egeling.de;ROLE=REQ-PARTICIPANT:www.alexander-eg
 eling.de
ATTENDEE;CN=;ROLE=REQ-PARTICIPANT:
CREATED:20181203T210138Z
DESCRIPTION:https://www.uni-marburg.de/en/mara/pr-mara/events/2024/program
 -for-postdocs/emf-leadership\nIn this event you will find your individual 
 way of leading people.
LAST-MODIFIED:20240228T085705Z
LOCATION:Philipps-Universität Marburg\, MARA\, F|05\, Deutschhausstraße 
 11+13\, Seminar room 01.0010
URL:https://www.uni-marburg.de/en/mara/pr-mara/events/2024/program-for-pos
 tdocs/emf-leadership
END:VEVENT
END:VCALENDAR
