BEGIN:VCALENDAR
VERSION:2.0
PRODID:-//Plone.org//NONSGML plone.app.event//EN
X-WR-TIMEZONE:Europe/Berlin
BEGIN:VEVENT
SUMMARY:EMF – Registration to Certifying Program EMF
DTSTART;VALUE=DATE:20240131
DTEND;VALUE=DATE:20240201
DTSTAMP:20260421T221643Z
UID:54b59d18a6bb4d7499a17b9aa5f67ff2@www.uni-marburg.de
ATTENDEE;CN=diverse;ROLE=REQ-PARTICIPANT:diverse
CREATED:20181203T210138Z
DESCRIPTION:https://www.uni-marburg.de/en/mara/pr-mara/events/2024/program
 -for-postdocs/emf-registration\nInformation on registration procedure
LAST-MODIFIED:20240717T094110Z
LOCATION:Registration online via the external database Campus Events
URL:https://www.uni-marburg.de/en/mara/pr-mara/events/2024/program-for-pos
 tdocs/emf-registration
END:VEVENT
END:VCALENDAR
