BEGIN:VCALENDAR
VERSION:2.0
PRODID:-//Plone.org//NONSGML plone.app.event//EN
X-WR-TIMEZONE:Europe/Berlin
BEGIN:VEVENT
SUMMARY:EMF – Academic Fixed-Term Contract Act – Overview on the "Wiss
 enschaftszeitvertragsgesetz" – Online Event
DTSTART;TZID=Europe/Berlin:20240315T093000
DTEND;TZID=Europe/Berlin:20240315T113000
DTSTAMP:20260422T164944Z
UID:4f7c91ac02af4f919d9ee054001ff005@www.uni-marburg.de
ATTENDEE;CN="Katharina Lemke";ROLE=REQ-PARTICIPANT:Katharina Lemke
ATTENDEE;CN=www.hochschulverband.de;ROLE=REQ-PARTICIPANT:www.hochschulverb
 and.de
CREATED:20190829T124332Z
DESCRIPTION:https://www.uni-marburg.de/en/mara/pr-mara/events/2024/program
 -for-postdocs/fixed_term_contract\nThis workshop will give you an overview
  of the legal basis for fixed-term employment contracts for academic staff
  at universities and research institutions.
LAST-MODIFIED:20240229T133455Z
LOCATION:Online
URL:https://www.uni-marburg.de/en/mara/pr-mara/events/2024/program-for-pos
 tdocs/fixed_term_contract
END:VEVENT
BEGIN:VTIMEZONE
TZID:Europe/Berlin
X-LIC-LOCATION:Europe/Berlin
BEGIN:STANDARD
DTSTART:20231029T020000
TZNAME:CET
TZOFFSETFROM:+0200
TZOFFSETTO:+0100
END:STANDARD
END:VTIMEZONE
END:VCALENDAR
