BEGIN:VCALENDAR
VERSION:2.0
PRODID:-//Plone.org//NONSGML plone.app.event//EN
X-WR-TIMEZONE:Europe/Berlin
BEGIN:VEVENT
SUMMARY:Supervision Focusing on Field Research in Conflict Areas: Navigati
 ng Challenges and Ensuring Well-being – Online event
DTSTART;TZID=Europe/Berlin:20240718T100000
DTEND;TZID=Europe/Berlin:20240718T120000
DTSTAMP:20260423T023517Z
UID:4b82af5583474d1093934de5c7161774@www.uni-marburg.de
ATTENDEE;CN="Thimna Bunte";ROLE=REQ-PARTICIPANT:Thimna Bunte
ATTENDEE;CN=;ROLE=REQ-PARTICIPANT:
CREATED:20240227T094228Z
DESCRIPTION:https://www.uni-marburg.de/en/mara/pr-mara/events/2024/program
 -for-postdocs/supervision\n
LAST-MODIFIED:20240619T092401Z
LOCATION:Online in BigBlueButton
URL:https://www.uni-marburg.de/en/mara/pr-mara/events/2024/program-for-pos
 tdocs/supervision
END:VEVENT
BEGIN:VTIMEZONE
TZID:Europe/Berlin
X-LIC-LOCATION:Europe/Berlin
BEGIN:DAYLIGHT
DTSTART:20240331T030000
TZNAME:CEST
TZOFFSETFROM:+0100
TZOFFSETTO:+0200
END:DAYLIGHT
END:VTIMEZONE
END:VCALENDAR
