BEGIN:VCALENDAR
VERSION:2.0
PRODID:-//Plone.org//NONSGML plone.app.event//EN
X-WR-TIMEZONE:Europe/Berlin
BEGIN:VEVENT
SUMMARY:Critical Reasoning and Logic – Online Course
DTSTART;TZID=Europe/Berlin:20240711T090000
DTEND;TZID=Europe/Berlin:20240711T150000
DTSTAMP:20260424T050402Z
UID:479b36f19d924eb3b8c2ef9a4a48870b@www.uni-marburg.de
RRULE:FREQ=DAILY;UNTIL=20240712T000000
ATTENDEE;CN="Dr. Jonas Zahn";ROLE=REQ-PARTICIPANT:Dr. Jonas Zahn
ATTENDEE;CN=www.argumentationskompetenz.de;ROLE=REQ-PARTICIPANT:www.argume
 ntationskompetenz.de
CREATED:20180110T100212Z
DESCRIPTION:https://www.uni-marburg.de/en/mara/pr-mara/events/2024/program
 -humanities-and-social-sciences/critical-reasoning-and-logic\n
LAST-MODIFIED:20231220T110117Z
LOCATION:Online
URL:https://www.uni-marburg.de/en/mara/pr-mara/events/2024/program-humanit
 ies-and-social-sciences/critical-reasoning-and-logic
END:VEVENT
BEGIN:VTIMEZONE
TZID:Europe/Berlin
X-LIC-LOCATION:Europe/Berlin
BEGIN:DAYLIGHT
DTSTART:20240331T030000
TZNAME:CEST
TZOFFSETFROM:+0100
TZOFFSETTO:+0200
END:DAYLIGHT
END:VTIMEZONE
END:VCALENDAR
