BEGIN:VCALENDAR
VERSION:2.0
PRODID:-//Plone.org//NONSGML plone.app.event//EN
X-WR-TIMEZONE:Europe/Berlin
BEGIN:VEVENT
SUMMARY:Academic Posters – Concept\, Design and Presentation – Online 
 Course
DTSTART;TZID=Europe/Berlin:20240221T090000
DTEND;TZID=Europe/Berlin:20240221T160000
DTSTAMP:20260425T032131Z
UID:73f53245d3d04b6ba392b80f6e25c6b3@www.uni-marburg.de
RRULE:FREQ=DAILY;COUNT=8
EXDATE;TZID=Europe/Berlin:20240222T090000,20240223T090000,20240224T090000,
 20240225T090000,20240226T090000,20240227T090000
ATTENDEE;CN="Birgit Lukowski";ROLE=REQ-PARTICIPANT:Birgit Lukowski
ATTENDEE;CN="https://designspace.suedstern-grafik.de";ROLE=REQ-PARTICIPANT
 :https://designspace.suedstern-grafik.de
CREATED:20211125T113124Z
DESCRIPTION:https://www.uni-marburg.de/en/mara/pr-mara/events/2024/program
 -life-and-natural-sciences/academic-posters\n
LAST-MODIFIED:20231219T112741Z
LOCATION:Online – Zoom
URL:https://www.uni-marburg.de/en/mara/pr-mara/events/2024/program-life-an
 d-natural-sciences/academic-posters
END:VEVENT
BEGIN:VTIMEZONE
TZID:Europe/Berlin
X-LIC-LOCATION:Europe/Berlin
BEGIN:STANDARD
DTSTART:20231029T020000
TZNAME:CET
TZOFFSETFROM:+0200
TZOFFSETTO:+0100
END:STANDARD
END:VTIMEZONE
END:VCALENDAR
