BEGIN:VCALENDAR
VERSION:2.0
PRODID:-//Plone.org//NONSGML plone.app.event//EN
X-WR-TIMEZONE:Europe/Berlin
BEGIN:VEVENT
SUMMARY:Meetings Across Borders – Online Course
DTSTART;TZID=Europe/Berlin:20241212T090000
DTEND;TZID=Europe/Berlin:20241212T170000
DTSTAMP:20260424T221130Z
UID:b4fdd0efd1a648b5aa5cd561f72c75cc@www.uni-marburg.de
ATTENDEE;CN="Andrew Cerniski";ROLE=REQ-PARTICIPANT:Andrew Cerniski
ATTENDEE;CN=www.english-inc.de;ROLE=REQ-PARTICIPANT:www.english-inc.de
CREATED:20201202T152216Z
DESCRIPTION:https://www.uni-marburg.de/en/mara/pr-mara/events/2024/program
 -life-and-natural-sciences/copy_of_meetings-across-borders\n
LAST-MODIFIED:20241007T070943Z
LOCATION:Online
URL:https://www.uni-marburg.de/en/mara/pr-mara/events/2024/program-life-an
 d-natural-sciences/copy_of_meetings-across-borders
END:VEVENT
BEGIN:VTIMEZONE
TZID:Europe/Berlin
X-LIC-LOCATION:Europe/Berlin
BEGIN:STANDARD
DTSTART:20241027T020000
TZNAME:CET
TZOFFSETFROM:+0200
TZOFFSETTO:+0100
END:STANDARD
END:VTIMEZONE
END:VCALENDAR
