BEGIN:VCALENDAR
VERSION:2.0
PRODID:-//Plone.org//NONSGML plone.app.event//EN
X-WR-TIMEZONE:Europe/Berlin
BEGIN:VEVENT
SUMMARY:How to Design Scientific Figures – Online Course
DTSTART;VALUE=DATE:20241106
DTEND;VALUE=DATE:20241107
DTSTAMP:20260424T221012Z
UID:e3fbde40e78044e0bd399569c111f1af@www.uni-marburg.de
RRULE:FREQ=DAILY;COUNT=7
EXDATE:20241108,20241109,20241110,20241111,20241112
ATTENDEE;CN="Dr. Susanne Berger";ROLE=REQ-PARTICIPANT:Dr. Susanne Berger
ATTENDEE;CN=www.graphical-abstracts.com;ROLE=REQ-PARTICIPANT:www.graphical
 -abstracts.com
CREATED:20181130T095409Z
DESCRIPTION:https://www.uni-marburg.de/en/mara/pr-mara/events/2024/program
 -life-and-natural-sciences/design-scientific-figures\n
LAST-MODIFIED:20240301T133455Z
LOCATION:Online – Zoom
URL:https://www.uni-marburg.de/en/mara/pr-mara/events/2024/program-life-an
 d-natural-sciences/design-scientific-figures
END:VEVENT
END:VCALENDAR
