BEGIN:VCALENDAR
VERSION:2.0
PRODID:-//Plone.org//NONSGML plone.app.event//EN
X-WR-TIMEZONE:Europe/Berlin
BEGIN:VEVENT
SUMMARY:Finding Your Way at Philipps-Universität Marburg! How to Settle i
 n\, Feel at Home and Thrive at Work – A Workshop for International Resea
 rchers
DTSTART;TZID=Europe/Berlin:20241125T090000
DTEND;TZID=Europe/Berlin:20241125T160000
DTSTAMP:20260425T032131Z
UID:ca3edb4182bb478f86b8ca8dfb4589be@www.uni-marburg.de
RRULE:FREQ=DAILY;UNTIL=20241126T000000
RDATE;TZID=Europe/Berlin:20241126T090000,20241126T090000
EXDATE;TZID=Europe/Berlin:20241127T090000,20241128T090000,20241129T090000,
 20241130T090000,20241201T090000
ATTENDEE;CN="Dr. Philippa Cook";ROLE=REQ-PARTICIPANT:Dr. Philippa Cook
CREATED:20220329T074823Z
DESCRIPTION:https://www.uni-marburg.de/en/mara/pr-mara/events/2024/program
 -life-and-natural-sciences/finding-your-way\n
LAST-MODIFIED:20240619T080514Z
LOCATION:Philipps-Universität Marburg\, MARA\, F|05\, Deutschhausstraße 
 11+13\, Seminar room 01.0010
URL:https://www.uni-marburg.de/en/mara/pr-mara/events/2024/program-life-an
 d-natural-sciences/finding-your-way
END:VEVENT
BEGIN:VTIMEZONE
TZID:Europe/Berlin
X-LIC-LOCATION:Europe/Berlin
BEGIN:STANDARD
DTSTART:20241027T020000
TZNAME:CET
TZOFFSETFROM:+0200
TZOFFSETTO:+0100
END:STANDARD
END:VTIMEZONE
END:VCALENDAR
