BEGIN:VCALENDAR
VERSION:2.0
PRODID:-//Plone.org//NONSGML plone.app.event//EN
X-WR-TIMEZONE:Europe/Berlin
BEGIN:VEVENT
SUMMARY:Get That Job After Your Doctorate! – Applying & Interviewing for
  Positions in Industry and Research – Online Course
DTSTART;VALUE=DATE:20240301
DTEND;VALUE=DATE:20240302
DTSTAMP:20260424T135042Z
UID:00eb06be7a5f411caf4232843c6725e3@www.uni-marburg.de
RRULE:FREQ=DAILY;COUNT=8
EXDATE:20240302,20240303,20240304,20240305,20240306,20240307
ATTENDEE;CN="Andrew Cerniski";ROLE=REQ-PARTICIPANT:Andrew Cerniski
ATTENDEE;CN=www.english-inc.de;ROLE=REQ-PARTICIPANT:www.english-inc.de
CREATED:20201202T152216Z
DESCRIPTION:https://www.uni-marburg.de/en/mara/pr-mara/events/2024/program
 -life-and-natural-sciences/get-that-job\n
LAST-MODIFIED:20231018T074525Z
LOCATION:Online
URL:https://www.uni-marburg.de/en/mara/pr-mara/events/2024/program-life-an
 d-natural-sciences/get-that-job
END:VEVENT
END:VCALENDAR
