BEGIN:VCALENDAR
VERSION:2.0
PRODID:-//Plone.org//NONSGML plone.app.event//EN
X-WR-TIMEZONE:Europe/Berlin
BEGIN:VEVENT
SUMMARY:GMP\, GLP\, and GCP – Fundamentals and Advanced Requirements in 
 the Pharmaceutical Industry
DTSTART;TZID=Europe/Berlin:20240912T090000
DTEND;TZID=Europe/Berlin:20240912T170000
DTSTAMP:20260425T003331Z
UID:e9600bb98f5f440fa464c30e1c112536@www.uni-marburg.de
RRULE:FREQ=DAILY;COUNT=7
EXDATE;TZID=Europe/Berlin:20240914T090000,20240915T090000,20240916T090000,
 20240917T090000,20240918T090000
ATTENDEE;CN="Dr. Heinrich Prinz";ROLE=REQ-PARTICIPANT:Dr. Heinrich Prinz
ATTENDEE;CN="Dr. Christoph Prinz";ROLE=REQ-PARTICIPANT:Dr. Christoph Prinz
CREATED:20181130T103506Z
DESCRIPTION:https://www.uni-marburg.de/en/mara/pr-mara/events/2024/program
 -life-and-natural-sciences/gmp\n
LAST-MODIFIED:20240130T100609Z
LOCATION:Philipps-Universität Marburg\, MARA\, F|05\, Deutschhausstraße 
 11+13\, Seminar room 01.0010
URL:https://www.uni-marburg.de/en/mara/pr-mara/events/2024/program-life-an
 d-natural-sciences/gmp
END:VEVENT
BEGIN:VTIMEZONE
TZID:Europe/Berlin
X-LIC-LOCATION:Europe/Berlin
BEGIN:DAYLIGHT
DTSTART:20240331T030000
TZNAME:CEST
TZOFFSETFROM:+0100
TZOFFSETTO:+0200
END:DAYLIGHT
END:VTIMEZONE
END:VCALENDAR
