BEGIN:VCALENDAR
VERSION:2.0
PRODID:-//Plone.org//NONSGML plone.app.event//EN
X-WR-TIMEZONE:Europe/Berlin
BEGIN:VEVENT
SUMMARY:Good Scientific Practice – Protecting Research Integrity – Onl
 ine Course
DTSTART;TZID=Europe/Berlin:20240429T091500
DTEND;TZID=Europe/Berlin:20240429T160000
DTSTAMP:20260424T234741Z
UID:5e4701d420814a39b7c17ed064c321d4@www.uni-marburg.de
RRULE:FREQ=DAILY;COUNT=2
ATTENDEE;CN="Dr. Michael Gommel";ROLE=REQ-PARTICIPANT:Dr. Michael Gommel
ATTENDEE;CN=www.scientificintegrity.de;ROLE=REQ-PARTICIPANT:www.scientific
 integrity.de
CREATED:20201203T085747Z
DESCRIPTION:https://www.uni-marburg.de/en/mara/pr-mara/events/2024/program
 -life-and-natural-sciences/good-scientific-practice\n
LAST-MODIFIED:20231018T092124Z
LOCATION:Online – Zoom
URL:https://www.uni-marburg.de/en/mara/pr-mara/events/2024/program-life-an
 d-natural-sciences/good-scientific-practice
END:VEVENT
BEGIN:VTIMEZONE
TZID:Europe/Berlin
X-LIC-LOCATION:Europe/Berlin
BEGIN:DAYLIGHT
DTSTART:20240331T030000
TZNAME:CEST
TZOFFSETFROM:+0100
TZOFFSETTO:+0200
END:DAYLIGHT
END:VTIMEZONE
END:VCALENDAR
