BEGIN:VCALENDAR
VERSION:2.0
PRODID:-//Plone.org//NONSGML plone.app.event//EN
X-WR-TIMEZONE:Europe/Berlin
BEGIN:VEVENT
SUMMARY:Mastering Python – Next Steps in Coding and Development
DTSTART;TZID=Europe/Berlin:20241130T090000
DTEND;TZID=Europe/Berlin:20241130T170000
DTSTAMP:20260425T042816Z
UID:93fadbe3c8414fcab9450dd1b4278a86@www.uni-marburg.de
ATTENDEE;CN="Dr. Daniel Lee";ROLE=REQ-PARTICIPANT:Dr. Daniel Lee
CREATED:20230331T064142Z
DESCRIPTION:https://www.uni-marburg.de/en/mara/pr-mara/events/2024/program
 -life-and-natural-sciences/mastering_python\n
LAST-MODIFIED:20240130T094420Z
LOCATION:Philipps-Universität Marburg\, MARA\, F|05\, Deutschhausstraße 
 11+13\, Seminar room 01.0010
URL:https://www.uni-marburg.de/en/mara/pr-mara/events/2024/program-life-an
 d-natural-sciences/mastering_python
END:VEVENT
BEGIN:VTIMEZONE
TZID:Europe/Berlin
X-LIC-LOCATION:Europe/Berlin
BEGIN:STANDARD
DTSTART:20241027T020000
TZNAME:CET
TZOFFSETFROM:+0200
TZOFFSETTO:+0100
END:STANDARD
END:VTIMEZONE
END:VCALENDAR
